BEGIN:VCALENDAR
VERSION:2.0
PRODID:-//Coca-Cola Beverages Florida - ECPv6.15.18//NONSGML v1.0//EN
CALSCALE:GREGORIAN
METHOD:PUBLISH
X-WR-CALNAME:Coca-Cola Beverages Florida
X-ORIGINAL-URL:https://cokeflorida.com
X-WR-CALDESC:Events for Coca-Cola Beverages Florida
REFRESH-INTERVAL;VALUE=DURATION:PT1H
X-Robots-Tag:noindex
X-PUBLISHED-TTL:PT1H
BEGIN:VTIMEZONE
TZID:America/New_York
BEGIN:DAYLIGHT
TZOFFSETFROM:-0500
TZOFFSETTO:-0400
TZNAME:EDT
DTSTART:20250309T070000
END:DAYLIGHT
BEGIN:STANDARD
TZOFFSETFROM:-0400
TZOFFSETTO:-0500
TZNAME:EST
DTSTART:20251102T060000
END:STANDARD
BEGIN:DAYLIGHT
TZOFFSETFROM:-0500
TZOFFSETTO:-0400
TZNAME:EDT
DTSTART:20260308T070000
END:DAYLIGHT
BEGIN:STANDARD
TZOFFSETFROM:-0400
TZOFFSETTO:-0500
TZNAME:EST
DTSTART:20261101T060000
END:STANDARD
BEGIN:DAYLIGHT
TZOFFSETFROM:-0500
TZOFFSETTO:-0400
TZNAME:EDT
DTSTART:20270314T070000
END:DAYLIGHT
BEGIN:STANDARD
TZOFFSETFROM:-0400
TZOFFSETTO:-0500
TZNAME:EST
DTSTART:20271107T060000
END:STANDARD
END:VTIMEZONE
BEGIN:VEVENT
DTSTART;TZID=America/New_York:20260423T160000
DTEND;TZID=America/New_York:20260423T190000
DTSTAMP:20260422T102742
CREATED:20260420T155534Z
LAST-MODIFIED:20260420T155610Z
UID:7741-1776960000-1776970800@cokeflorida.com
SUMMARY:FIFA Panini Mobile Tour - Walmart Hollywood\, FL
DESCRIPTION:Join Coke Florida at the Panini Mobile Tour traveling across Florida\, April 23 to July 4. Come out to explore the FIFA World Cup 2026™ Official Sticker Collection\, featuring a lineup of the world’s top soccer players\, rising stars\, and legendary icons. All are welcome to experience the excitement of FIFA and Panini community. \nAt the FIFA Panini Mobile Tour\, you’ll be able to: \n\nExplore the FIFA World Cup 2026™ Official Sticker Collection\nReceive a copy of the official album\nCollect stickers and trade with others\nCreate your own themed trading card photo\nEnjoy the soccer kick activation\n\nCollect stickers for the official FIFA World Cup 2026™ collection when you purchase 20-oz Coca-Cola and Coke Zero Sugar at retailers. \nPanini is the leading brand in sports sticker collections\, bringing together fans\, families\, and collectors from around the globe.
URL:https://cokeflorida.com/event/fifa-panini-mobile-tour-walmart-hollywood-fl/
LOCATION:Walmart #1511\, 1800 S University Drive\, Hollywood\, FL\, 33025\, United States
CATEGORIES:FIFA,Panini Tour
ATTACH;FMTTYPE=image/jpeg:https://cokeflorida.com/wp-content/uploads/2026/04/Panini-Mobile-Tour-Social-2-311x311-1.jpg
END:VEVENT
BEGIN:VEVENT
DTSTART;TZID=America/New_York:20260424T160000
DTEND;TZID=America/New_York:20260424T190000
DTSTAMP:20260422T102742
CREATED:20260420T155919Z
LAST-MODIFIED:20260420T155919Z
UID:7745-1777046400-1777057200@cokeflorida.com
SUMMARY:FIFA Panini Mobile Tour - Walmart Hialeah\, FL
DESCRIPTION:Join Coke Florida at the Panini Mobile Tour traveling across Florida\, April 23 to July 4. Come out to explore the FIFA World Cup 2026™ Official Sticker Collection\, featuring a lineup of the world’s top soccer players\, rising stars\, and legendary icons. All are welcome to experience the excitement of FIFA and Panini community. \nAt the FIFA Panini Mobile Tour\, you’ll be able to: \n\nExplore the FIFA World Cup 2026™ Official Sticker Collection\nReceive a copy of the official album\nCollect stickers and trade with others\nCreate your own themed trading card photo\nEnjoy the soccer kick activation\n\nCollect stickers for the official FIFA World Cup 2026™ collection when you purchase 20-oz Coca-Cola and Coke Zero Sugar at retailers. \nPanini is the leading brand in sports sticker collections\, bringing together fans\, families\, and collectors from around the globe.
URL:https://cokeflorida.com/event/fifa-panini-mobile-tour-walmart-hialeah-fl/
LOCATION:Walmart #2814\, 9300 NW 77th Avenue\, Hialeah\, FL\, 33016\, United States
CATEGORIES:FIFA,Panini Tour
ATTACH;FMTTYPE=image/jpeg:https://cokeflorida.com/wp-content/uploads/2026/04/Panini-Mobile-Tour-Social-2-311x311-1.jpg
END:VEVENT
BEGIN:VEVENT
DTSTART;TZID=America/New_York:20260425T120000
DTEND;TZID=America/New_York:20260425T150000
DTSTAMP:20260422T102742
CREATED:20260420T160230Z
LAST-MODIFIED:20260420T160230Z
UID:7748-1777118400-1777129200@cokeflorida.com
SUMMARY:FIFA Panini Mobile Tour - Seabra Foods Orlando\, FL
DESCRIPTION:Join Coke Florida at the Panini Mobile Tour traveling across Florida\, April 23 to July 4. Come out to explore the FIFA World Cup 2026™ Official Sticker Collection\, featuring a lineup of the world’s top soccer players\, rising stars\, and legendary icons. All are welcome to experience the excitement of FIFA and Panini community. \nAt the FIFA Panini Mobile Tour\, you’ll be able to: \n\nExplore the FIFA World Cup 2026™ Official Sticker Collection\nReceive a copy of the official album\nCollect stickers and trade with others\nCreate your own themed trading card photo\nEnjoy the soccer kick activation\n\nCollect stickers for the official FIFA World Cup 2026™ collection when you purchase 20-oz Coca-Cola and Coke Zero Sugar at retailers. \nPanini is the leading brand in sports sticker collections\, bringing together fans\, families\, and collectors from around the globe.
URL:https://cokeflorida.com/event/fifa-panini-mobile-tour-seabra-foods-orlando-fl/
LOCATION:Seabra Foods\, 4169 Town Center Blvd.\, Orlando\, FL\, 32837\, United States
CATEGORIES:FIFA,Panini Tour
ATTACH;FMTTYPE=image/jpeg:https://cokeflorida.com/wp-content/uploads/2026/04/Panini-Mobile-Tour-Social-2-311x311-1.jpg
END:VEVENT
BEGIN:VEVENT
DTSTART;TZID=America/New_York:20260427T120000
DTEND;TZID=America/New_York:20260427T150000
DTSTAMP:20260422T102742
CREATED:20260420T160534Z
LAST-MODIFIED:20260420T160534Z
UID:7751-1777291200-1777302000@cokeflorida.com
SUMMARY:FIFA Panini Mobile Tour - CVS Kissimmee\, FL
DESCRIPTION:Join Coke Florida at the Panini Mobile Tour traveling across Florida\, April 23 to July 4. Come out to explore the FIFA World Cup 2026™ Official Sticker Collection\, featuring a lineup of the world’s top soccer players\, rising stars\, and legendary icons. All are welcome to experience the excitement of FIFA and Panini community. \nAt the FIFA Panini Mobile Tour\, you’ll be able to: \n\nExplore the FIFA World Cup 2026™ Official Sticker Collection\nReceive a copy of the official album\nCollect stickers and trade with others\nCreate your own themed trading card photo\nEnjoy the soccer kick activation\n\nCollect stickers for the official FIFA World Cup 2026™ collection when you purchase 20-oz Coca-Cola and Coke Zero Sugar at retailers. \nPanini is the leading brand in sports sticker collections\, bringing together fans\, families\, and collectors from around the globe.
URL:https://cokeflorida.com/event/fifa-panini-mobile-tour-cvs-kissimmee-fl/
LOCATION:CVS #508\, 1205 W Vine Street\, Kissimmee\, FL\, 34741\, United States
CATEGORIES:FIFA,Panini Tour
ATTACH;FMTTYPE=image/jpeg:https://cokeflorida.com/wp-content/uploads/2026/04/Panini-Mobile-Tour-Social-2-311x311-1.jpg
END:VEVENT
BEGIN:VEVENT
DTSTART;TZID=America/New_York:20260428T160000
DTEND;TZID=America/New_York:20260428T190000
DTSTAMP:20260422T102742
CREATED:20260420T163613Z
LAST-MODIFIED:20260420T163613Z
UID:7755-1777392000-1777402800@cokeflorida.com
SUMMARY:FIFA Panini Mobile Tour - Circle K Jacksonville\, FL
DESCRIPTION:Join Coke Florida at the Panini Mobile Tour traveling across Florida\, April 23 to July 4. Come out to explore the FIFA World Cup 2026™ Official Sticker Collection\, featuring a lineup of the world’s top soccer players\, rising stars\, and legendary icons. All are welcome to experience the excitement of FIFA and Panini community. \nAt the FIFA Panini Mobile Tour\, you’ll be able to: \n\nExplore the FIFA World Cup 2026™ Official Sticker Collection\nReceive a copy of the official album\nCollect stickers and trade with others\nCreate your own themed trading card photo\nEnjoy the soccer kick activation\n\nCollect stickers for the official FIFA World Cup 2026™ collection when you purchase 20-oz Coca-Cola and Coke Zero Sugar at retailers. \nPanini is the leading brand in sports sticker collections\, bringing together fans\, families\, and collectors worldwide.
URL:https://cokeflorida.com/event/fifa-panini-mobile-tour-circle-k-jacksonville-fl/
LOCATION:Circle K – Jacksonville 32222\, 116 OakLeaf Village Parkway\, Jacksonville\, FL\, 32222\, United States
CATEGORIES:FIFA,Panini Tour
ATTACH;FMTTYPE=image/jpeg:https://cokeflorida.com/wp-content/uploads/2026/04/Panini-Mobile-Tour-Social-2-311x311-1.jpg
END:VEVENT
END:VCALENDAR