BEGIN:VCALENDAR
VERSION:2.0
PRODID:-//Coca-Cola Beverages Florida - ECPv6.15.18//NONSGML v1.0//EN
CALSCALE:GREGORIAN
METHOD:PUBLISH
X-WR-CALNAME:Coca-Cola Beverages Florida
X-ORIGINAL-URL:https://cokeflorida.com
X-WR-CALDESC:Events for Coca-Cola Beverages Florida
REFRESH-INTERVAL;VALUE=DURATION:PT1H
X-Robots-Tag:noindex
X-PUBLISHED-TTL:PT1H
BEGIN:VTIMEZONE
TZID:America/New_York
BEGIN:DAYLIGHT
TZOFFSETFROM:-0500
TZOFFSETTO:-0400
TZNAME:EDT
DTSTART:20250309T070000
END:DAYLIGHT
BEGIN:STANDARD
TZOFFSETFROM:-0400
TZOFFSETTO:-0500
TZNAME:EST
DTSTART:20251102T060000
END:STANDARD
BEGIN:DAYLIGHT
TZOFFSETFROM:-0500
TZOFFSETTO:-0400
TZNAME:EDT
DTSTART:20260308T070000
END:DAYLIGHT
BEGIN:STANDARD
TZOFFSETFROM:-0400
TZOFFSETTO:-0500
TZNAME:EST
DTSTART:20261101T060000
END:STANDARD
BEGIN:DAYLIGHT
TZOFFSETFROM:-0500
TZOFFSETTO:-0400
TZNAME:EDT
DTSTART:20270314T070000
END:DAYLIGHT
BEGIN:STANDARD
TZOFFSETFROM:-0400
TZOFFSETTO:-0500
TZNAME:EST
DTSTART:20271107T060000
END:STANDARD
END:VTIMEZONE
BEGIN:VEVENT
DTSTART;TZID=America/New_York:20260515T120000
DTEND;TZID=America/New_York:20260515T153000
DTSTAMP:20260422T181922
CREATED:20260413T144529Z
LAST-MODIFIED:20260420T161231Z
UID:7688-1778846400-1778859000@cokeflorida.com
SUMMARY:Coke Florida FIFA Caravan - Nicklaus Children's Hospital
DESCRIPTION:
URL:https://cokeflorida.com/event/coke-florida-fifa-caravan-nicklaus-childrens-hospital/
LOCATION:Nicklaus Children’s Hospital – Miami\, 3100 SW 62nd Avenue\, Miami\, FL\, 33155\, United States
CATEGORIES:FIFA,FIFA Caravan
ATTACH;FMTTYPE=image/jpeg:https://cokeflorida.com/wp-content/uploads/2026/03/FIFA-Caravan-Experience-600x600-1.jpg
END:VEVENT
BEGIN:VEVENT
DTSTART;TZID=America/New_York:20260516T150000
DTEND;TZID=America/New_York:20260516T180000
DTSTAMP:20260422T181922
CREATED:20260413T200232Z
LAST-MODIFIED:20260420T161225Z
UID:7713-1778943600-1778954400@cokeflorida.com
SUMMARY:Coke Florida FIFA Caravan - Winn-Dixie Miami
DESCRIPTION:
URL:https://cokeflorida.com/event/coke-florida-fifa-caravan-winn-dixie-miami/
LOCATION:Winn Dixie #0214\, 1150 NW 54 Street\, Miami\, FL\, 33127\, United States
CATEGORIES:FIFA,FIFA Caravan
ATTACH;FMTTYPE=image/jpeg:https://cokeflorida.com/wp-content/uploads/2026/03/FIFA-Caravan-Experience-600x600-1.jpg
END:VEVENT
BEGIN:VEVENT
DTSTART;TZID=America/New_York:20260517T130000
DTEND;TZID=America/New_York:20260517T160000
DTSTAMP:20260422T181922
CREATED:20260413T201540Z
LAST-MODIFIED:20260420T161219Z
UID:7716-1779022800-1779033600@cokeflorida.com
SUMMARY:Coke Florida FIFA Caravan - Walmart Miami
DESCRIPTION:
URL:https://cokeflorida.com/event/coke-florida-fifa-caravan-walmart-miami/
LOCATION:Walmart #3235\, 1425 Ne 163rd St\, North Miami Beach\, 33162\, United States
CATEGORIES:FIFA,FIFA Caravan
ATTACH;FMTTYPE=image/jpeg:https://cokeflorida.com/wp-content/uploads/2026/04/FIFA-Caravan-600x600-1.jpg
END:VEVENT
BEGIN:VEVENT
DTSTART;TZID=America/New_York:20260522T130000
DTEND;TZID=America/New_York:20260522T160000
DTSTAMP:20260422T181922
CREATED:20260413T201727Z
LAST-MODIFIED:20260420T161209Z
UID:7718-1779454800-1779465600@cokeflorida.com
SUMMARY:Coke Florida FIFA Caravan - Walmart Pompano Beach
DESCRIPTION:
URL:https://cokeflorida.com/event/coke-florida-fifa-caravan-walmart-pompano-beach/
LOCATION:Walmart #2962\, 2300 W Atlantic Blvd\, Pompano Beach\, FL\, 33069\, United States
CATEGORIES:FIFA,FIFA Caravan
ATTACH;FMTTYPE=image/jpeg:https://cokeflorida.com/wp-content/uploads/2026/03/FIFA-Caravan-Experience-600x600-1.jpg
END:VEVENT
END:VCALENDAR