BEGIN:VCALENDAR
VERSION:2.0
PRODID:-//Coca-Cola Beverages Florida - ECPv6.15.18//NONSGML v1.0//EN
CALSCALE:GREGORIAN
METHOD:PUBLISH
X-WR-CALNAME:Coca-Cola Beverages Florida
X-ORIGINAL-URL:https://cokeflorida.com
X-WR-CALDESC:Events for Coca-Cola Beverages Florida
REFRESH-INTERVAL;VALUE=DURATION:PT1H
X-Robots-Tag:noindex
X-PUBLISHED-TTL:PT1H
BEGIN:VTIMEZONE
TZID:America/New_York
BEGIN:DAYLIGHT
TZOFFSETFROM:-0500
TZOFFSETTO:-0400
TZNAME:EDT
DTSTART:20250309T070000
END:DAYLIGHT
BEGIN:STANDARD
TZOFFSETFROM:-0400
TZOFFSETTO:-0500
TZNAME:EST
DTSTART:20251102T060000
END:STANDARD
BEGIN:DAYLIGHT
TZOFFSETFROM:-0500
TZOFFSETTO:-0400
TZNAME:EDT
DTSTART:20260308T070000
END:DAYLIGHT
BEGIN:STANDARD
TZOFFSETFROM:-0400
TZOFFSETTO:-0500
TZNAME:EST
DTSTART:20261101T060000
END:STANDARD
BEGIN:DAYLIGHT
TZOFFSETFROM:-0500
TZOFFSETTO:-0400
TZNAME:EDT
DTSTART:20270314T070000
END:DAYLIGHT
BEGIN:STANDARD
TZOFFSETFROM:-0400
TZOFFSETTO:-0500
TZNAME:EST
DTSTART:20271107T060000
END:STANDARD
END:VTIMEZONE
BEGIN:VEVENT
DTSTART;TZID=America/New_York:20260509T150000
DTEND;TZID=America/New_York:20260509T180000
DTSTAMP:20260420T090246
CREATED:20260413T143729Z
LAST-MODIFIED:20260413T143729Z
UID:7679-1778338800-1778349600@cokeflorida.com
SUMMARY:Coke Florida FIFA Caravan - Walmart Clermont John Lake Rd
DESCRIPTION:
URL:https://cokeflorida.com/event/coke-florida-fifa-caravan-walmart-clermont-john-lake-rd/
LOCATION:Walmart #2695\, 1450 Johns Lake Road\, Clermont\, FL\, 34711\, United States
CATEGORIES:FIFA Caravan
ATTACH;FMTTYPE=image/jpeg:https://cokeflorida.com/wp-content/uploads/2026/04/FIFA-Caravan-600x600-1.jpg
END:VEVENT
END:VCALENDAR